BEGIN:VCALENDAR
VERSION:2.0
PRODID:-//CASA of Galveston County - ECPv6.15.20//NONSGML v1.0//EN
CALSCALE:GREGORIAN
METHOD:PUBLISH
X-WR-CALNAME:CASA of Galveston County
X-ORIGINAL-URL:https://casagalveston.org
X-WR-CALDESC:Events for CASA of Galveston County
REFRESH-INTERVAL;VALUE=DURATION:PT1H
X-Robots-Tag:noindex
X-PUBLISHED-TTL:PT1H
BEGIN:VTIMEZONE
TZID:America/Chicago
BEGIN:DAYLIGHT
TZOFFSETFROM:-0600
TZOFFSETTO:-0500
TZNAME:CDT
DTSTART:20250309T080000
END:DAYLIGHT
BEGIN:STANDARD
TZOFFSETFROM:-0500
TZOFFSETTO:-0600
TZNAME:CST
DTSTART:20251102T070000
END:STANDARD
BEGIN:DAYLIGHT
TZOFFSETFROM:-0600
TZOFFSETTO:-0500
TZNAME:CDT
DTSTART:20260308T080000
END:DAYLIGHT
BEGIN:STANDARD
TZOFFSETFROM:-0500
TZOFFSETTO:-0600
TZNAME:CST
DTSTART:20261101T070000
END:STANDARD
BEGIN:DAYLIGHT
TZOFFSETFROM:-0600
TZOFFSETTO:-0500
TZNAME:CDT
DTSTART:20270314T080000
END:DAYLIGHT
BEGIN:STANDARD
TZOFFSETFROM:-0500
TZOFFSETTO:-0600
TZNAME:CST
DTSTART:20271107T070000
END:STANDARD
END:VTIMEZONE
BEGIN:VEVENT
DTSTART;TZID=America/Chicago:20260512T180000
DTEND;TZID=America/Chicago:20260512T193000
DTSTAMP:20260422T070154
CREATED:20260128T205025Z
LAST-MODIFIED:20260128T210606Z
UID:10000174-1778608800-1778614200@casagalveston.org
SUMMARY:CASA Companions Gathering
DESCRIPTION:Join CASA Companions for a series of quarterly events to have dinner and dialogue! This is a perfect opportunity to plan regular connections with fellow volunteer advocates!  \n\n\n\nAll upcoming events are on Tuesdays 6:00 pm – 7:30 pm at Olive Garden (10212 Emmett F Lowry Expy\, Texas City\, TX 77591). RSVP now! Please RSVP by May 5th.  \n\n\n\nYou have been a consistent presence in the lives of the children we serve\, so now it’s time to let us be yours! \n\n\nFor any questions\, please reach out to Alli Hines at allison@casagalveston.org. \n\n\n\n                \n                        \n                            CASA Companions Gathering 5/12\n                             \n                        					\n						Δ\n						\n						\n\n					\n                        Name(Required)\n                            \n                            \n                                                    \n                                                    First\n                                                \n                            \n                            \n                                                    \n                                                    Last\n                                                \n                            \n                        Email(Required)
URL:https://casagalveston.org/event/casa-companions-gathering-2/
LOCATION:Olive Garden in Texas City\, 10212 Emmett F Lowry Expy\, Texas City\, Texas\, 77591\, United States
CATEGORIES:CASA Companions,Event
ATTACH;FMTTYPE=image/png:https://casagalveston.org/wp-content/uploads/sites/20/2026/01/CASA-Companions-Logo-433x433-1.png
END:VEVENT
BEGIN:VEVENT
DTSTART;TZID=America/Chicago:20260725T180000
DTEND;TZID=America/Chicago:20260725T210000
DTSTAMP:20260422T070154
CREATED:20260406T214545Z
LAST-MODIFIED:20260406T214548Z
UID:10000213-1785002400-1785013200@casagalveston.org
SUMMARY:Boots and Bling for Brave Hearts- Dinner Fundraiser
DESCRIPTION:Join us for an unforgettable evening where western flair meets coastal elegance—all in support of a life-changing mission. \n\n\n\nOn July 25\, 2026\, the ballroom at the Galveston Island Convention Center will be transformed into a stunning Gulf-view setting for Boots and Bling for Brave Hearts. Enjoy cocktails\, a fun photobooth experience\, and an EXCLUSIVE EXPERIENCE with artist Jimmy Wayne\, all while gathering with community members who care deeply about children. \n\n\n\nGuests will have the opportunity to participate in a silent auction while socializing\, followed by a live auction featuring one-of-a-kind items and experiences. Every bid helps CASA of Galveston County recruit and train more volunteers—ensuring abused and neglected children have a strong\, consistent voice in child protection court. \n\n\n\nThis evening is about celebrating brave hearts—the children\, their families\, our advocates\, supporters\, and community members who stand up for our most vulnerable children. \n\n\n\n Every investment makes a difference. Every bid counts. Tickets and sponsorships available—join us and be part of the impact! Visit casagalveston.org/bootsandbling2026 for more info! 
URL:https://casagalveston.org/event/boots-and-bling-for-brave-hearts-dinner-fundraiser/
LOCATION:Galveston Island Convention Center at the san luis resort\, 5600 Seawall Blvd\, Galveston\, Texas\, 77551\, United States
CATEGORIES:Event
ATTACH;FMTTYPE=image/png:https://casagalveston.org/wp-content/uploads/sites/20/2026/04/Boots-and-Bling-Flyer-1.png
END:VEVENT
BEGIN:VEVENT
DTSTART;TZID=America/Chicago:20260811T180000
DTEND;TZID=America/Chicago:20260811T193000
DTSTAMP:20260422T070154
CREATED:20260128T205233Z
LAST-MODIFIED:20260128T210437Z
UID:10000175-1786471200-1786476600@casagalveston.org
SUMMARY:CASA Companions Gathering
DESCRIPTION:Join CASA Companions for a series of quarterly events to have dinner and dialogue! This is a perfect opportunity to plan regular connections with fellow volunteer advocates!  \n\n\n\nAll upcoming events are on Tuesdays 6:00 pm – 7:30 pm at Olive Garden (10212 Emmett F Lowry Expy\, Texas City\, TX 77591). RSVP now! Please RSVP by August 4th.  \n\n\n\nYou have been a consistent presence in the lives of the children we serve\, so now it’s time to let us be yours! \n\n\nFor any questions\, please reach out to Alli Hines at allison@casagalveston.org. \n\n\n                \n                        \n                            CASA Companions Gathering 8/11\n                             \n                        					\n						Δ\n						\n						\n\n					\n                        Name(Required)\n                            \n                            \n                                                    \n                                                    First\n                                                \n                            \n                            \n                                                    \n                                                    Last\n                                                \n                            \n                        Email(Required)
URL:https://casagalveston.org/event/casa-companions-gathering-3/
LOCATION:Olive Garden in Texas City\, 10212 Emmett F Lowry Expy\, Texas City\, Texas\, 77591\, United States
CATEGORIES:CASA Companions,Event
ATTACH;FMTTYPE=image/png:https://casagalveston.org/wp-content/uploads/sites/20/2026/01/CASA-Companions-Logo-433x433-1.png
END:VEVENT
BEGIN:VEVENT
DTSTART;TZID=America/Chicago:20261117T180000
DTEND;TZID=America/Chicago:20261117T193000
DTSTAMP:20260422T070154
CREATED:20260128T205534Z
LAST-MODIFIED:20260128T210314Z
UID:10000176-1794938400-1794943800@casagalveston.org
SUMMARY:CASA Companions Gathering
DESCRIPTION:Join CASA Companions for a series of quarterly events to have dinner and dialogue! This is a perfect opportunity to plan regular connections with fellow volunteer advocates!  \n\n\n\nAll upcoming events are on Tuesdays 6:00 pm – 7:30 pm at Olive Garden (10212 Emmett F Lowry Expy\, Texas City\, TX 77591). RSVP now!  Please RSVP by November 10th.  \n\n\n\nYou have been a consistent presence in the lives of the children we serve\, so now it’s time to let us be yours! \n\n\nFor any questions\, please reach out to Alli Hines at allison@casagalveston.org. \n\n\n                \n                        \n                            CASA Companions Gathering 11/17\n                             \n                        					\n						Δ\n						\n						\n\n					\n                        Name(Required)\n                            \n                            \n                                                    \n                                                    First\n                                                \n                            \n                            \n                                                    \n                                                    Last\n                                                \n                            \n                        Email(Required)
URL:https://casagalveston.org/event/casa-companions-gathering-4/
LOCATION:Olive Garden in Texas City\, 10212 Emmett F Lowry Expy\, Texas City\, Texas\, 77591\, United States
CATEGORIES:CASA Companions,Event
ATTACH;FMTTYPE=image/png:https://casagalveston.org/wp-content/uploads/sites/20/2026/01/CASA-Companions-Logo-433x433-1.png
END:VEVENT
END:VCALENDAR