BEGIN:VCALENDAR
VERSION:2.0
PRODID:-//CASA of Galveston County - ECPv6.15.20//NONSGML v1.0//EN
CALSCALE:GREGORIAN
METHOD:PUBLISH
X-WR-CALNAME:CASA of Galveston County
X-ORIGINAL-URL:https://casagalveston.org
X-WR-CALDESC:Events for CASA of Galveston County
REFRESH-INTERVAL;VALUE=DURATION:PT1H
X-Robots-Tag:noindex
X-PUBLISHED-TTL:PT1H
BEGIN:VTIMEZONE
TZID:America/Chicago
BEGIN:DAYLIGHT
TZOFFSETFROM:-0600
TZOFFSETTO:-0500
TZNAME:CDT
DTSTART:20250309T080000
END:DAYLIGHT
BEGIN:STANDARD
TZOFFSETFROM:-0500
TZOFFSETTO:-0600
TZNAME:CST
DTSTART:20251102T070000
END:STANDARD
BEGIN:DAYLIGHT
TZOFFSETFROM:-0600
TZOFFSETTO:-0500
TZNAME:CDT
DTSTART:20260308T080000
END:DAYLIGHT
BEGIN:STANDARD
TZOFFSETFROM:-0500
TZOFFSETTO:-0600
TZNAME:CST
DTSTART:20261101T070000
END:STANDARD
BEGIN:DAYLIGHT
TZOFFSETFROM:-0600
TZOFFSETTO:-0500
TZNAME:CDT
DTSTART:20270314T080000
END:DAYLIGHT
BEGIN:STANDARD
TZOFFSETFROM:-0500
TZOFFSETTO:-0600
TZNAME:CST
DTSTART:20271107T070000
END:STANDARD
END:VTIMEZONE
BEGIN:VEVENT
DTSTART;TZID=America/Chicago:20260410T120000
DTEND;TZID=America/Chicago:20260410T140000
DTSTAMP:20260423T093116
CREATED:20260402T175348Z
LAST-MODIFIED:20260402T175505Z
UID:10000203-1775822400-1775829600@casagalveston.org
SUMMARY:Kinship Support & Licensing Information Session
DESCRIPTION:Kinship Advocates of Texas (KAT) is hosting monthlyStatewide Kinship Home Licensing Information Sessions.These sessions are designed for kinship caregivers andprofessionals supporting kinship families who areinterested in learning about the home licensing process.Participants will receive an overview of eligibility criteria\,requirements\, and steps involved for kinship familiespursuing licensure in the state of Texas \n\n\n\nAll Sessions Will Be On Zoom. Click the Register Here button below.
URL:https://casagalveston.org/event/kinship-support-licensing-information-session/
CATEGORIES:Training
END:VEVENT
BEGIN:VEVENT
DTSTART;TZID=America/Chicago:20260415T100000
DTEND;TZID=America/Chicago:20260415T113000
DTSTAMP:20260423T093116
CREATED:20260303T165328Z
LAST-MODIFIED:20260303T165331Z
UID:10000200-1776247200-1776252600@casagalveston.org
SUMMARY:Fatherhood and Prevention: Family Support Services and the Fatherhood EFFECT
DESCRIPTION:Presenter: Dallin Belt \n\n\n\nDescription: \n\n\n\nThe Fatherhood EFFECT (Educating Fathers For Empowering Children Tomorrow ) program is committed to equipping fathers and father-figures with the tools\, resources\, and support they need to thrive in their vital role. During this interactive Microsoft Teams session\, participants will: \n\n\n\n\nLearn how the Fatherhood EFFECT program supports responsible fatherhood and healthy family engagement\n\n\n\nExplore community-based resources and partnership opportunities\n\n\n\nHear powerful insights on increasing positive outcomes for children through father involvement\n\n\n\nDiscover ways organizations\, providers\, and community leaders can collaborate to expand impact\n\n\n\n\nWhether you are a community partner\, social service provider\, faith-based leader\, or advocate for families\, this webinar will provide valuable information and practical strategies you can implement immediately.  \n\n\n\nTogether\, we can strengthen families by empowering fathers to lead with confidence\, connection\, and purpose. \n\n\n\nDon’t miss this opportunity to be part of a statewide movement creating lasting generational impact. \n\n\nRegister for this event by clicking the link below. \nhttps://events.teams.microsoft.com/event/3811cd7f-ba1f-4649-ab42-2f5480b8597b@0915ef38-12cd-4561-ab80-9c7f41bfb31e 
URL:https://casagalveston.org/event/fatherhood-and-prevention-family-support-services-and-the-fatherhood-effect/
CATEGORIES:Training
END:VEVENT
BEGIN:VEVENT
DTSTART;TZID=America/Chicago:20260415T120000
DTEND;TZID=America/Chicago:20260415T130000
DTSTAMP:20260423T093116
CREATED:20260330T144941Z
LAST-MODIFIED:20260330T144943Z
UID:10000202-1776254400-1776258000@casagalveston.org
SUMMARY:Success on the Spectrum Presentation
DESCRIPTION:Success  on the Spectrum is an ABA resource in Texas City\, and they will be presenting on April 15th from noon to 1:00 pm. Topics that will be covered during the presentation are: \n\n\n\n\nPractical strategies for supporting children in everyday settings\n\n\n\n\n\nAn overview of autism and its common characteristics\n\n\n\n\n\nThe services we provide and an introduction to ABA therapy\n\n\n\n\n\n                \n                        \n                            Success on the Spectrum Presentation\n                             \n                        					\n						Δ\n						\n						\n\n					\n                        Name(Required)\n                            \n                            \n                                                    \n                                                    First\n                                                \n                            \n                            \n                                                    \n                                                    Last\n                                                \n                            \n                        Email(Required)
URL:https://casagalveston.org/event/success-on-the-spectrum-presentation/
LOCATION:Galveston CASA Office\, 600 Gulf Freeway\, Suite 228\, Texas City\, TX\, 77591
CATEGORIES:In-Service,Training
END:VEVENT
BEGIN:VEVENT
DTSTART;TZID=America/Chicago:20260417T090000
DTEND;TZID=America/Chicago:20260417T110000
DTSTAMP:20260423T093116
CREATED:20260217T033743Z
LAST-MODIFIED:20260217T034548Z
UID:10000182-1776416400-1776423600@casagalveston.org
SUMMARY:Trust-Based Relational Intervention: Connecting Principle
DESCRIPTION:TBRI is an attachment-based\, trauma-informed intervention that is designed to meet the complex needs of vulnerable children.. This interactive\, 2-hour workshop will provide participants with an introduction to TBRI\, Correcting\, Empowering\, and Connecting approach as developed by Dr. Karyn Purvis and Dr. David Cross.  \n\n\n\nSession 2: Connecting Principle \n\n\n\nAvailable Session Dates: \n\n\n\n\nThursday\, February 19th\, 4pm – 6pm CST\n\n\n\nFriday\, February 20th\, 9am – 11am CST\n\n\n\nFriday\, April 17th\, 9am – 11am CST\n\n\n\n\nSession 2 Objectives: \n\n\n\n\nIdentify techniques in each of the three principles to use with their children.\n\n\n\nExplore their family history and self-awareness as they relate to their parenting style.\n\n\n\nIdentify changes to a child’s environment that may help reduce stress.\n\n\n\nEnhance understanding of how to interpret behavior and respond appropriately.\n\n\n\nRecognize the difference between “safety” and “felt safety” and the importance of the distinction.\n\n\n\n\nPresenter: Nicole Washington\, MA or Jenna Williams\, M.ED \n\n\n\nThis training will be held virtually.
URL:https://casagalveston.org/event/trust-based-relational-intervention-connecting-principle/2026-04-17/
CATEGORIES:Training
END:VEVENT
BEGIN:VEVENT
DTSTART;TZID=America/Chicago:20260501T090000
DTEND;TZID=America/Chicago:20260501T110000
DTSTAMP:20260423T093116
CREATED:20260217T040245Z
LAST-MODIFIED:20260217T040248Z
UID:10000191-1777626000-1777633200@casagalveston.org
SUMMARY:Trust-Based Relational Intervention: Empowering Principle
DESCRIPTION:TBRI is an attachment-based\, trauma-informed intervention that is designed to meet the complex needs of vulnerable children. This interactive\, 2-hour workshop will provide participants with an introduction to TBRI\, Correcting\, Empowering\, and Connecting approach as developed by Dr. Karyn Purvis and Dr. David Cross.  \n\n\n\nSession 3: Empowering Principle \n\n\n\nAvailable Session Dates: \n\n\n\n\nFriday\, March 13th\, 9am – 11am CST\n\n\n\nMonday\, March 30th\, 3pm – 5pm CST\n\n\n\nFriday\, May 1st\, 9am – 11am CST\n\n\n\n\nSession 3 Objectives: \n\n\n\n\nIdentify techniques in each of the three principles to use with their children.\n\n\n\nExplore their family history and self-awareness as they relate to their parenting style.\n\n\n\nIdentify changes to a child’s environment that may help reduce stress.\n\n\n\nEnhance understanding of how to interpret behavior and respond appropriately.\n\n\n\nRecognize the difference between “safety” and “felt safety” and the importance of the distinction.\n\n\n\n\nPresenter: Nicole Washington\, MA or Jenna Williams\, M.ED \n\n\n\nThis training will be held virtually.
URL:https://casagalveston.org/event/trust-based-relational-intervention-empowering-principle/2026-05-01/
CATEGORIES:Training
END:VEVENT
BEGIN:VEVENT
DTSTART;TZID=America/Chicago:20260514T130000
DTEND;TZID=America/Chicago:20260514T160000
DTSTAMP:20260423T093116
CREATED:20251009T150925Z
LAST-MODIFIED:20251009T150927Z
UID:10000160-1778763600-1778774400@casagalveston.org
SUMMARY:CFE 101 Virtual Training
DESCRIPTION:CFE 101 is a virtual training for those implementing Collaborative Family Engagement (CFE). This three-hour session covers the fundamentals of CFE and includes hands-on practice with core tools and skills. CASA\, CPS\, and Community-Based Care staff are all encouraged to attend. \n\n\n\nRegister Here: \nhttps://us02web.zoom.us/meeting/register/S590AonbTRiZeBAt0d0yJw#/registration \n\n\n\nThe training will be offered twice during the year\, on October 16\, 2025\, and May 14\, 2026. Both sessions take place from 1:00 to 4:00 p.m. Central Time. Each session includes the same content\, and you are welcome to attend either one. \n\n\n\nBefore attending\, please complete the two-hour CFE E-Learning. CASA and SSCC staff and volunteers can access the course at https://texascasa.org/program-portal/resources/collaborative-family-engagement/. CPS staff can find the training in CLOE or the DFPS Learning Station by searching for “CFE.” The course is titled Collaborative Family Engagement Foundational Online Training and is listed as course number 0003968. \n\n\n\nIf you have already completed this training\, consider registering for CFE 201\, a deeper dive into advanced CFE tools and strategies. You can find more information and register for CFE 201 at this link. \n\n\n\nSocial Work CEUs will be available. For questions or additional information\, contact us at cfeteam@texascasa.org.
URL:https://casagalveston.org/event/cfe-101-virtual-training-2/
CATEGORIES:In-Service,Training
END:VEVENT
BEGIN:VEVENT
DTSTART;TZID=America/Chicago:20260515T090000
DTEND;TZID=America/Chicago:20260515T110000
DTSTAMP:20260423T093116
CREATED:20260217T040605Z
LAST-MODIFIED:20260217T040607Z
UID:10000194-1778835600-1778842800@casagalveston.org
SUMMARY:Trust-Based Relational Intervention: Correcting Principles
DESCRIPTION:TBRI is an attachment-based\, trauma-informed intervention that is designed to meet the complex needs of vulnerable children. This interactive\, 8-hour workshop will provide participants with an introduction to TBRI\, Correcting\, Empowering\, and Connecting approach as developed by Dr. Karyn Purvis and Dr. David Cross. Certificates of completion will be provided. \n\n\n\nSession 4: Correcting Principles \n\n\n\nAvailable Session Dates: \n\n\n\n\nFriday\, March 27th\, 9am – 11am CST\n\n\n\nWednesday\, April 1st\, 3pm – 5pm CST\n\n\n\nFriday\, May 15th\, 9am – 11am CST\n\n\n\n\nObjectives: \n\n\n\n\nDefine the Correcting Principle and explain how it supports healthy boundaries and self-regulation.\n\n\n\nDifferentiate between proactive strategies (teaching skills) and responsive strategies (addressing misbehavior in the moment).\n\n\n\nPractice tools such as choices\, compromises\, and re-dos to guide behavior while maintaining connection.\n\n\n\nIdentify the importance of caregiver self-regulation when correcting challenging behaviors.\n\n\n\nApply correcting strategies to foster responsibility\, respect\, and trust in caregiver-child relationships.\n\n\n\n\nPresenter: Nicole Washington\, MA or Jenna Williams\, M.ED \n\n\n\nThis training will be held virtually.
URL:https://casagalveston.org/event/trust-based-relational-intervention-correcting-principles/2026-05-15/
CATEGORIES:Training
END:VEVENT
BEGIN:VEVENT
DTSTART;TZID=America/Chicago:20260523T100000
DTEND;TZID=America/Chicago:20260523T120000
DTSTAMP:20260423T093116
CREATED:20260402T175923Z
LAST-MODIFIED:20260402T175925Z
UID:10000204-1779530400-1779537600@casagalveston.org
SUMMARY:Kinship Support & Licensing Information Sessions
DESCRIPTION:Kinship Advocates of Texas (KAT) is hosting monthlyStatewide Kinship Home Licensing Information Sessions.These sessions are designed for kinship caregivers andprofessionals supporting kinship families who areinterested in learning about the home licensing process.Participants will receive an overview of eligibility criteria\,requirements\, and steps involved for kinship familiespursuing licensure in the state of Texas \n\n\nAll Sessions will be held via Zoom.
URL:https://casagalveston.org/event/kinship-support-licensing-information-sessions/2026-05-23/
CATEGORIES:Training
END:VEVENT
BEGIN:VEVENT
DTSTART;TZID=America/Chicago:20260710T120000
DTEND;TZID=America/Chicago:20260710T140000
DTSTAMP:20260423T093116
CREATED:20260402T183334Z
LAST-MODIFIED:20260402T183336Z
UID:10000205-1783684800-1783692000@casagalveston.org
SUMMARY:Kinship Support & Licensing Information Sessions
DESCRIPTION:Kinship Advocates of Texas (KAT) is hosting monthlyStatewide Kinship Home Licensing Information Sessions.These sessions are designed for kinship caregivers andprofessionals supporting kinship families who areinterested in learning about the home licensing process.Participants will receive an overview of eligibility criteria\,requirements\, and steps involved for kinship familiespursuing licensure in the state of Texas. \n\n\n\nAll Sessions Will Be On Zoom. Register by clicking the link below.
URL:https://casagalveston.org/event/kinship-support-licensing-information-sessions-2/
CATEGORIES:Training
END:VEVENT
BEGIN:VEVENT
DTSTART;TZID=America/Chicago:20260814T120000
DTEND;TZID=America/Chicago:20260814T140000
DTSTAMP:20260423T093116
CREATED:20260402T184759Z
LAST-MODIFIED:20260402T184803Z
UID:10000206-1786708800-1786716000@casagalveston.org
SUMMARY:Kinship Support & Licensing Information Session
DESCRIPTION:Kinship Advocates of Texas (KAT) is hosting monthlyStatewide Kinship Home Licensing Information Sessions.These sessions are designed for kinship caregivers andprofessionals supporting kinship families who areinterested in learning about the home licensing process.Participants will receive an overview of eligibility criteria\,requirements\, and steps involved for kinship familiespursuing licensure in the state of Texas. \n\n\n\nAll Sessions Will Be On Zoom. Register by clicking the link below.
URL:https://casagalveston.org/event/kinship-support-licensing-information-session-3/
CATEGORIES:Training
END:VEVENT
BEGIN:VEVENT
DTSTART;TZID=America/Chicago:20260912T100000
DTEND;TZID=America/Chicago:20260912T120000
DTSTAMP:20260423T093116
CREATED:20260402T185849Z
LAST-MODIFIED:20260402T185851Z
UID:10000207-1789207200-1789214400@casagalveston.org
SUMMARY:Kinship Support & Licensing Information Session
DESCRIPTION:Kinship Advocates of Texas (KAT) is hosting monthlyStatewide Kinship Home Licensing Information Sessions.These sessions are designed for kinship caregivers andprofessionals supporting kinship families who areinterested in learning about the home licensing process.Participants will receive an overview of eligibility criteria\,requirements\, and steps involved for kinship familiespursuing licensure in the state of Texas. \n\n\n\nAll Sessions Will Be On Zoom. Register by clicking the link below.
URL:https://casagalveston.org/event/kinship-support-licensing-information-session-4/
CATEGORIES:Training
END:VEVENT
BEGIN:VEVENT
DTSTART;TZID=America/Chicago:20261009T120000
DTEND;TZID=America/Chicago:20261009T140000
DTSTAMP:20260423T093116
CREATED:20260402T190033Z
LAST-MODIFIED:20260402T190036Z
UID:10000208-1791547200-1791554400@casagalveston.org
SUMMARY:Kinship Support & Licensing Information Session
DESCRIPTION:Kinship Advocates of Texas (KAT) is hosting monthlyStatewide Kinship Home Licensing Information Sessions.These sessions are designed for kinship caregivers andprofessionals supporting kinship families who areinterested in learning about the home licensing process.Participants will receive an overview of eligibility criteria\,requirements\, and steps involved for kinship familiespursuing licensure in the state of Texas. \n\n\n\nAll Sessions Will Be On Zoom. Register by clicking the link below.
URL:https://casagalveston.org/event/kinship-support-licensing-information-session-5/
CATEGORIES:Training
END:VEVENT
BEGIN:VEVENT
DTSTART;TZID=America/Chicago:20261113T120000
DTEND;TZID=America/Chicago:20261113T140000
DTSTAMP:20260423T093116
CREATED:20260402T190134Z
LAST-MODIFIED:20260402T190136Z
UID:10000209-1794571200-1794578400@casagalveston.org
SUMMARY:Kinship Support & Licensing Information Session
DESCRIPTION:Kinship Advocates of Texas (KAT) is hosting monthlyStatewide Kinship Home Licensing Information Sessions.These sessions are designed for kinship caregivers andprofessionals supporting kinship families who areinterested in learning about the home licensing process.Participants will receive an overview of eligibility criteria\,requirements\, and steps involved for kinship familiespursuing licensure in the state of Texas. \n\n\n\nAll Sessions Will Be On Zoom. Register by clicking the link below.
URL:https://casagalveston.org/event/kinship-support-licensing-information-session-6/
CATEGORIES:Training
END:VEVENT
BEGIN:VEVENT
DTSTART;TZID=America/Chicago:20261211T120000
DTEND;TZID=America/Chicago:20261211T140000
DTSTAMP:20260423T093116
CREATED:20260402T190242Z
LAST-MODIFIED:20260402T190244Z
UID:10000210-1796990400-1796997600@casagalveston.org
SUMMARY:Kinship Support & Licensing Information Session
DESCRIPTION:Kinship Advocates of Texas (KAT) is hosting monthlyStatewide Kinship Home Licensing Information Sessions.These sessions are designed for kinship caregivers andprofessionals supporting kinship families who areinterested in learning about the home licensing process.Participants will receive an overview of eligibility criteria\,requirements\, and steps involved for kinship familiespursuing licensure in the state of Texas. \n\n\n\nAll Sessions Will Be On Zoom. Register by clicking the link below.
URL:https://casagalveston.org/event/kinship-support-licensing-information-session-7/
CATEGORIES:Training
END:VEVENT
END:VCALENDAR