BEGIN:VCALENDAR
VERSION:2.0
PRODID:-//CASA of Galveston County - ECPv6.15.20//NONSGML v1.0//EN
CALSCALE:GREGORIAN
METHOD:PUBLISH
X-ORIGINAL-URL:https://casagalveston.org
X-WR-CALDESC:Events for CASA of Galveston County
REFRESH-INTERVAL;VALUE=DURATION:PT1H
X-Robots-Tag:noindex
X-PUBLISHED-TTL:PT1H
BEGIN:VTIMEZONE
TZID:America/Chicago
BEGIN:DAYLIGHT
TZOFFSETFROM:-0600
TZOFFSETTO:-0500
TZNAME:CDT
DTSTART:20240310T080000
END:DAYLIGHT
BEGIN:STANDARD
TZOFFSETFROM:-0500
TZOFFSETTO:-0600
TZNAME:CST
DTSTART:20241103T070000
END:STANDARD
BEGIN:DAYLIGHT
TZOFFSETFROM:-0600
TZOFFSETTO:-0500
TZNAME:CDT
DTSTART:20250309T080000
END:DAYLIGHT
BEGIN:STANDARD
TZOFFSETFROM:-0500
TZOFFSETTO:-0600
TZNAME:CST
DTSTART:20251102T070000
END:STANDARD
BEGIN:DAYLIGHT
TZOFFSETFROM:-0600
TZOFFSETTO:-0500
TZNAME:CDT
DTSTART:20260308T080000
END:DAYLIGHT
BEGIN:STANDARD
TZOFFSETFROM:-0500
TZOFFSETTO:-0600
TZNAME:CST
DTSTART:20261101T070000
END:STANDARD
END:VTIMEZONE
BEGIN:VEVENT
DTSTART;TZID=America/Chicago:20250708T173000
DTEND;TZID=America/Chicago:20250708T200000
DTSTAMP:20260420T060629
CREATED:20250506T202045Z
LAST-MODIFIED:20250506T202045Z
UID:10000133-1751995800-1752004800@casagalveston.org
SUMMARY:Darkness to Light’s Stewards of Children: Prevention and Awareness Training
DESCRIPTION:Follow the link to register for this training; \nhttps://cachouston.org/event/darkness-to-lights-stewards-of-children-prevention-and-awareness-training-4/
URL:https://casagalveston.org/event/darkness-to-lights-stewards-of-children-prevention-and-awareness-training-2/
LOCATION:Texas
CATEGORIES:Training
END:VEVENT
BEGIN:VEVENT
DTSTART;TZID=America/Chicago:20250709T130000
DTEND;TZID=America/Chicago:20250709T150000
DTSTAMP:20260420T060629
CREATED:20250522T175144Z
LAST-MODIFIED:20250522T175358Z
UID:10000143-1752066000-1752073200@casagalveston.org
SUMMARY:Financial Literacy 2
DESCRIPTION:Join us for two interactive and engaging financial literacy classes designed to empower youth with the tools to build strong money management skills. Each session includes free food\, door prizes\, and practical advice to help you make smart financial decisions now and in the future. Attend both sessions to be entered into a special prize drawing! \nTopics: \n\nProtecting Your Money: Learn how to avoid scams\, keep your information safe\, and understand your financial rights.\nLiving on Your Own: Get real-life tips on budgeting for rent\, utilities\, groceries\, and more when you move out on your own.\n\n💡 Don’t miss this chance to learn\, have fun\, and win prizes while preparing for your financial future!
URL:https://casagalveston.org/event/financial-literacy-2/
LOCATION:Galveston CASA Office\, 600 Gulf Freeway\, Suite 228\, Texas City\, TX\, 77591
END:VEVENT
BEGIN:VEVENT
DTSTART;TZID=America/Chicago:20250709T170000
DTEND;TZID=America/Chicago:20250709T180000
DTSTAMP:20260420T060629
CREATED:20250520T184233Z
LAST-MODIFIED:20250520T185717Z
UID:10000139-1752080400-1752084000@casagalveston.org
SUMMARY:Behavioral Impacts: How brain states influence our behavior
DESCRIPTION:Unlocking the Secrets of Brain States: Understanding Their Impact on Behavior with Christina Talley\, Coordinator of Student Behavior support \nIn this session we will learn about the brain states and explore how they affect our thoughts\, feelings\, and actions. You’ll learn about: \n\nBrain Basics: How the brain works.\nBehavioral Impacts: How brain states influence our behavior.\nPractical Tips: Ways to manage brain states and how you can support children (or adults) who need to move up to the “thinking brain.”
URL:https://casagalveston.org/event/behavioral-impacts-how-brain-states-influence-our-behavior/
LOCATION:Galveston CASA Office\, 600 Gulf Freeway\, Suite 228\, Texas City\, TX\, 77591
END:VEVENT
BEGIN:VEVENT
DTSTART;TZID=America/Chicago:20250717T130000
DTEND;TZID=America/Chicago:20250717T160000
DTSTAMP:20260420T060629
CREATED:20250224T152745Z
LAST-MODIFIED:20250224T152757Z
UID:10000099-1752757200-1752768000@casagalveston.org
SUMMARY:CFE For All - Statewide Training
DESCRIPTION:Hosted By Texas CASA: We are excited to offer quarterly CFE For All virtual trainings- a training for those who are implementing CFE. Please join us where CASA\, Child Protective Services and Community-Based Care staff will come together to learn about the fundamentals of CFE and have the opportunity for practical\, hands-on application of the skills and tools presented. \nPlease note each three-hour virtual training will be the exact same\, and you can attend one or as many of them as you’d like. \nFollow the link below to sign up for the virtual training and receive the zoom information. \nMeeting Registration – Zoom
URL:https://casagalveston.org/event/cfe-for-all-statewide-training-2/
LOCATION:Texas
CATEGORIES:Training
END:VEVENT
BEGIN:VEVENT
DTSTART;TZID=America/Chicago:20250718T120000
DTEND;TZID=America/Chicago:20250718T130000
DTSTAMP:20260420T060629
CREATED:20250520T183016Z
LAST-MODIFIED:20250520T185806Z
UID:10000138-1752840000-1752843600@casagalveston.org
SUMMARY:Individualized Education Plan/Admission\, Review\, and Dismissal Training
DESCRIPTION:This training with Jacqueline Nelson\, Assistant Director of Elementary Special Education Services\, will provide knowledge of the Admission\, Review\, and Dismissal (ARD) process and Individualized Education Programs (IEPs)\, key components of special education under the Individuals with Disabilities Education Act (IDEA).
URL:https://casagalveston.org/event/individualized-education-plan-admission-review-and-dismissal-training/
LOCATION:Galveston CASA Office\, 600 Gulf Freeway\, Suite 228\, Texas City\, TX\, 77591
CATEGORIES:Training
END:VEVENT
BEGIN:VEVENT
DTSTART;TZID=America/Chicago:20250730T173000
DTEND;TZID=America/Chicago:20250730T193000
DTSTAMP:20260420T060629
CREATED:20250630T141706Z
LAST-MODIFIED:20250630T141706Z
UID:10000147-1753896600-1753903800@casagalveston.org
SUMMARY:CASA Companions- Stress Management and Self-care Yoga!
DESCRIPTION:Join CASA Companions and Jim Turner\, certified yoga instructor\, for this gentle movement and breathwork yoga that will assist with stress management and self-care. This class will be structured for people seated in a chair or on the floor. Jim will also demonstrate techniques for correcting common postural misalignments that can cause pain in typical problem areas such as neck and shoulders. Everyone will be encouraged to participate at their own level. \nHealthy snacks will be provided. Attire should be loose clothing or yoga pants that allow movement. \n 
URL:https://casagalveston.org/event/casa-companions-stress-management-and-self-care-yoga/
LOCATION:Galveston CASA Office\, 600 Gulf Freeway\, Suite 228\, Texas City\, TX\, 77591
CATEGORIES:CASA Companions
END:VEVENT
END:VCALENDAR