BEGIN:VCALENDAR
VERSION:2.0
PRODID:-//CASA of Galveston County - ECPv6.15.20//NONSGML v1.0//EN
CALSCALE:GREGORIAN
METHOD:PUBLISH
X-WR-CALNAME:CASA of Galveston County
X-ORIGINAL-URL:https://casagalveston.org
X-WR-CALDESC:Events for CASA of Galveston County
REFRESH-INTERVAL;VALUE=DURATION:PT1H
X-Robots-Tag:noindex
X-PUBLISHED-TTL:PT1H
BEGIN:VTIMEZONE
TZID:America/Chicago
BEGIN:DAYLIGHT
TZOFFSETFROM:-0600
TZOFFSETTO:-0500
TZNAME:CDT
DTSTART:20240310T080000
END:DAYLIGHT
BEGIN:STANDARD
TZOFFSETFROM:-0500
TZOFFSETTO:-0600
TZNAME:CST
DTSTART:20241103T070000
END:STANDARD
BEGIN:DAYLIGHT
TZOFFSETFROM:-0600
TZOFFSETTO:-0500
TZNAME:CDT
DTSTART:20250309T080000
END:DAYLIGHT
BEGIN:STANDARD
TZOFFSETFROM:-0500
TZOFFSETTO:-0600
TZNAME:CST
DTSTART:20251102T070000
END:STANDARD
BEGIN:DAYLIGHT
TZOFFSETFROM:-0600
TZOFFSETTO:-0500
TZNAME:CDT
DTSTART:20260308T080000
END:DAYLIGHT
BEGIN:STANDARD
TZOFFSETFROM:-0500
TZOFFSETTO:-0600
TZNAME:CST
DTSTART:20261101T070000
END:STANDARD
END:VTIMEZONE
BEGIN:VEVENT
DTSTART;TZID=America/Chicago:20251201T170000
DTEND;TZID=America/Chicago:20251201T183000
DTSTAMP:20260422T052930
CREATED:20250919T164630Z
LAST-MODIFIED:20250919T164630Z
UID:10000155-1764608400-1764613800@casagalveston.org
SUMMARY:PAL Training with Jonathan Tigner : Virtual
DESCRIPTION:Please join CASA for a PAL Training with Jonathan Tigner. The following topics will be discussed: The Importance of PAL\, Circle of Supports\, PAL Benefits\, Upcoming Events\, Housing\, and Life Skills Classes. \n*Mandatory for advocates with youth ages 13 and older. \nThis event is Virtual. \n\n  \n  \n 
URL:https://casagalveston.org/event/pal-training-virtual/
LOCATION:Texas
CATEGORIES:In-Service,Training
END:VEVENT
BEGIN:VEVENT
DTSTART;TZID=America/Chicago:20251203T120000
DTEND;TZID=America/Chicago:20251203T140000
DTSTAMP:20260422T052930
CREATED:20250919T162831Z
LAST-MODIFIED:20251024T212754Z
UID:10000154-1764763200-1764770400@casagalveston.org
SUMMARY:PAL Training with Jonathan Tigner
DESCRIPTION:Please join CASA for a PAL Training with Jonathan Tigner. The following topics will be discussed: The Importance of PAL\, Circle of Supports\, PAL Benefits\, Upcoming Events\, Housing\, and Life Skills Classes.\n\n*Mandatory for advocates with youth ages 13 and older.\n\n\n\n \n\n \n\n 
URL:https://casagalveston.org/event/pal-training-youth/
LOCATION:Galveston CASA Office\, 600 Gulf Freeway\, Suite 228\, Texas City\, TX\, 77591
CATEGORIES:In-Service,Training
END:VEVENT
BEGIN:VEVENT
DTSTART;TZID=America/Chicago:20251209T180000
DTEND;TZID=America/Chicago:20251209T200000
DTSTAMP:20260422T052931
CREATED:20251028T155726Z
LAST-MODIFIED:20251028T160244Z
UID:10000166-1765303200-1765310400@casagalveston.org
SUMMARY:CASA Companions: Holiday Huddle
DESCRIPTION:Celebrate the season with your CASA Companions and fellow advocates at our Holiday Huddle Dinner! Join us at Olive Garden for an evening of friendship\, support\, and festive fun. Come relax\, share a meal\, and connect with others who make a difference all year long! \n\n\n\nPlease RSVP by: December 4th\, 2025. 
URL:https://casagalveston.org/event/casa-companions-holiday-huddle/
LOCATION:Olive Garden in Texas City\, 10212 Emmett F Lowry Expy\, Texas City\, Texas\, 77591\, United States
CATEGORIES:CASA Companions,Event
END:VEVENT
BEGIN:VEVENT
DTSTART;TZID=America/Chicago:20251210T120000
DTEND;TZID=America/Chicago:20251210T130000
DTSTAMP:20260422T052931
CREATED:20251027T220142Z
LAST-MODIFIED:20251028T133957Z
UID:10000163-1765368000-1765371600@casagalveston.org
SUMMARY:Mandatory Policy and Procedure Training
DESCRIPTION:Learn about the changes and updates to the Volunteer Policy and Procedure Manual! This will be a virtual setting\, and the Zoom link will be emailed to you after signing up!
URL:https://casagalveston.org/event/mandatory-policy-and-procedure-training-2/
LOCATION:Texas
CATEGORIES:Training
END:VEVENT
BEGIN:VEVENT
DTSTART;TZID=America/Chicago:20251210T173000
DTEND;TZID=America/Chicago:20251210T183000
DTSTAMP:20260422T052931
CREATED:20251027T221056Z
LAST-MODIFIED:20251028T133654Z
UID:10000165-1765387800-1765391400@casagalveston.org
SUMMARY:Mandatory Policy and Procedure Training
DESCRIPTION:Learn about the changes and updates to the Volunteer Policy and Procedure Manual! This will be a virtual setting\, and the Zoom link will be emailed to you after signing up!
URL:https://casagalveston.org/event/mandatory-policy-and-procedure-training-3/
LOCATION:Texas
CATEGORIES:Training
END:VEVENT
END:VCALENDAR