BEGIN:VCALENDAR
VERSION:2.0
PRODID:-//CASA of Galveston County - ECPv6.15.20//NONSGML v1.0//EN
CALSCALE:GREGORIAN
METHOD:PUBLISH
X-WR-CALNAME:CASA of Galveston County
X-ORIGINAL-URL:https://casagalveston.org
X-WR-CALDESC:Events for CASA of Galveston County
REFRESH-INTERVAL;VALUE=DURATION:PT1H
X-Robots-Tag:noindex
X-PUBLISHED-TTL:PT1H
BEGIN:VTIMEZONE
TZID:America/Chicago
BEGIN:DAYLIGHT
TZOFFSETFROM:-0600
TZOFFSETTO:-0500
TZNAME:CDT
DTSTART:20250309T080000
END:DAYLIGHT
BEGIN:STANDARD
TZOFFSETFROM:-0500
TZOFFSETTO:-0600
TZNAME:CST
DTSTART:20251102T070000
END:STANDARD
BEGIN:DAYLIGHT
TZOFFSETFROM:-0600
TZOFFSETTO:-0500
TZNAME:CDT
DTSTART:20260308T080000
END:DAYLIGHT
BEGIN:STANDARD
TZOFFSETFROM:-0500
TZOFFSETTO:-0600
TZNAME:CST
DTSTART:20261101T070000
END:STANDARD
BEGIN:DAYLIGHT
TZOFFSETFROM:-0600
TZOFFSETTO:-0500
TZNAME:CDT
DTSTART:20270314T080000
END:DAYLIGHT
BEGIN:STANDARD
TZOFFSETFROM:-0500
TZOFFSETTO:-0600
TZNAME:CST
DTSTART:20271107T070000
END:STANDARD
END:VTIMEZONE
BEGIN:VEVENT
DTSTART;TZID=America/Chicago:20260520T170000
DTEND;TZID=America/Chicago:20260520T190000
DTSTAMP:20260424T033920
CREATED:20260423T142811Z
LAST-MODIFIED:20260423T142813Z
UID:10000214-1779296400-1779303600@casagalveston.org
SUMMARY:Making Space\, Making Change!
DESCRIPTION:We are inviting volunteers to come spend time together while helping us get donations out the door!  \n\n\n\nOur storage room is full of quality items donated for the children we serve\, so we are making it a point to get these useful items to them. These include body care products\, hair care products\, makeup\, fragrances\, jewelry\, comfort items\, arts & crafts\, toys\, board games\, books\, school supplies\, clothing (variety sizes)\, shoes (variety sizes)\, baby formula\, diapers (limited sizes)\, feminine products\, and suitcases. They are not doing any good staying in the office!  \n\n\n\nPlease join us at the CASA office after business hours (5-7pm) on Wednesday\, May 20th\, for sandwiches and sherbert punch while we clear out as much as we can from our storage.
URL:https://casagalveston.org/event/making-space-making-change/
LOCATION:Galveston CASA Office\, 600 Gulf Freeway\, Suite 228\, Texas City\, TX\, 77591
CATEGORIES:Event
END:VEVENT
END:VCALENDAR